BEGIN:VCALENDAR
VERSION:2.0
METHOD:PUBLISH
BEGIN:VEVENT
UID:WILD_APRICOT_EVENT_3639090_SESSION_1
DTSTART:20191207T050000Z
DTEND:20191207T080000Z
SUMMARY:Game Guru Sessions (session 1 of 4)
LOCATION:Flock Board Game Cafe & Bar
DESCRIPTION:https://www.flock.kiwi/event-3639090\n\nOur trusty game gurus are at hand for those who want to learn a new game but aren't sure where to start.\n\n
DTSTAMP:20191223T035443Z
END:VEVENT
BEGIN:VEVENT
UID:WILD_APRICOT_EVENT_3639090_SESSION_2
DTSTART:20191214T050000Z
DTEND:20191214T080000Z
SUMMARY:Game Guru Sessions (session 2 of 4)
LOCATION:Flock Board Game Cafe & Bar
DESCRIPTION:https://www.flock.kiwi/event-3639090\n\nOur trusty game gurus are at hand for those who want to learn a new game but aren't sure where to start.\n\n
DTSTAMP:20191223T035443Z
END:VEVENT
BEGIN:VEVENT
UID:WILD_APRICOT_EVENT_3639090_SESSION_3
DTSTART:20191221T050000Z
DTEND:20191221T080000Z
SUMMARY:Game Guru Sessions (session 3 of 4)
LOCATION:Flock Board Game Cafe & Bar
DESCRIPTION:https://www.flock.kiwi/event-3639090\n\nOur trusty game gurus are at hand for those who want to learn a new game but aren't sure where to start.\n\n
DTSTAMP:20191223T035443Z
END:VEVENT
BEGIN:VEVENT
UID:WILD_APRICOT_EVENT_3639090_SESSION_4
DTSTART:20191228T050000Z
DTEND:20191228T080000Z
SUMMARY:Game Guru Sessions (session 4 of 4)
LOCATION:Flock Board Game Cafe & Bar
DESCRIPTION:https://www.flock.kiwi/event-3639090\n\nOur trusty game gurus are at hand for those who want to learn a new game but aren't sure where to start.\n\n
DTSTAMP:20191223T035443Z
END:VEVENT
END:VCALENDAR
